BEGIN:VCALENDAR
VERSION:2.0
PRODID:-//Catholic United Financial, a Trusted Fraternal Life brand - ECPv6.15.18//NONSGML v1.0//EN
CALSCALE:GREGORIAN
METHOD:PUBLISH
X-WR-CALNAME:Catholic United Financial, a Trusted Fraternal Life brand
X-ORIGINAL-URL:https://www.catholicunitedfinancial.org
X-WR-CALDESC:Events for Catholic United Financial, a Trusted Fraternal Life brand
REFRESH-INTERVAL;VALUE=DURATION:PT1H
X-Robots-Tag:noindex
X-PUBLISHED-TTL:PT1H
BEGIN:VTIMEZONE
TZID:America/Chicago
BEGIN:DAYLIGHT
TZOFFSETFROM:-0600
TZOFFSETTO:-0500
TZNAME:CDT
DTSTART:20250309T080000
END:DAYLIGHT
BEGIN:STANDARD
TZOFFSETFROM:-0500
TZOFFSETTO:-0600
TZNAME:CST
DTSTART:20251102T070000
END:STANDARD
BEGIN:DAYLIGHT
TZOFFSETFROM:-0600
TZOFFSETTO:-0500
TZNAME:CDT
DTSTART:20260308T080000
END:DAYLIGHT
BEGIN:STANDARD
TZOFFSETFROM:-0500
TZOFFSETTO:-0600
TZNAME:CST
DTSTART:20261101T070000
END:STANDARD
BEGIN:DAYLIGHT
TZOFFSETFROM:-0600
TZOFFSETTO:-0500
TZNAME:CDT
DTSTART:20270314T080000
END:DAYLIGHT
BEGIN:STANDARD
TZOFFSETFROM:-0500
TZOFFSETTO:-0600
TZNAME:CST
DTSTART:20271107T070000
END:STANDARD
END:VTIMEZONE
BEGIN:VEVENT
DTSTART;TZID=America/Chicago:20260520T090000
DTEND;TZID=America/Chicago:20260520T100000
DTSTAMP:20260423T044450
CREATED:20260420T135425Z
LAST-MODIFIED:20260420T135540Z
UID:10000549-1779267600-1779271200@www.catholicunitedfinancial.org
SUMMARY:Colby\, WI - Estate Planning Basics Workshop
DESCRIPTION:To RSVP: Click or tap here to RSVP or call 1-800-441-9949. \nThis workshop is two things: 1) a great starting point for people who need an estate plan and 2) a good reminder to people who have a plan and want to make sure it’s up-to-date. Topics to be discussed include: \n\nUnderstanding how probate will affect your family and estate\nManaging tax exposure and protecting assets\nMaking the best decisions regarding wills and trusts\nPlanning and funding for final expenses\nSetting up documentation like power of attorney and health care directives\nPreparing you for a visit to an attorney (potentially saving you money)\n\nJohn Tetzloff\, Director of Sales for Catholic United Financial\, will address these estate planning topics and take questions about your situation during our Q&A session. \nNothing will be sold at this workshop. For educational purposes only. Workshop is about one hour in length\, depending on audience participation.
URL:https://www.catholicunitedfinancial.org/event/colby-wi-estate-planning-basics-workshop/
LOCATION:St. Mary Help of Christians\, Colby\, 205 S 2nd St\, Colby\, 54421\, United States
CATEGORIES:Workshop
ATTACH;FMTTYPE=image/jpeg:https://www.catholicunitedfinancial.org/wp-content/uploads/2024/02/EstatePlanningBasicsWorkshop-thumbnailWEB.jpg
ORGANIZER;CN="Vicky Giacalone%2C FICF":MAILTO:vgiacalone@catholicunited.org
END:VEVENT
END:VCALENDAR